BEGIN:VCALENDAR
VERSION:2.0
PRODID:-//wp-events-plugin.com//7.2.3.1//EN
TZID:Europe/Berlin
X-WR-TIMEZONE:Europe/Berlin
BEGIN:VEVENT
UID:36@gruene-transformation.org
DTSTART;TZID=Asia/Baku;VALUE=DATE:20260601
DTEND;TZID=Asia/Baku;VALUE=DATE:20260604
DTSTAMP:20260424T133554Z
URL:https://gruene-transformation.org/veranstaltungen/wirtschaftsdelegatio
 nsreise-nach-aserbaidschan-baku-energy-week/
SUMMARY:Wirtschaftsdelegationsreise nach Aserbaidschan\, Baku Energy Week
DESCRIPTION:Der Ost-Ausschuss der Deutschen Wirtschaft und die Unternehmens
 plattform Grüne Transformation laden Sie zu einer Wirtschaftsdelegationsr
 eise nach Aserbaidschan im Rahmen der Baku Energy Week in der Zeit vom 1. 
 bis 3. Juni 2026 ein. Einen Teil der Reise organisieren wir zusammen mit d
 er AHK Aserbaidschan\, deren Mitarbeiterinnen Ihnen vor Ort als Ansprechpa
 rtner auch für andere Themen als den Schwerpunktthemen der Reise gern zur
  Verfügung stehen.\n\nWenn Sie an dieser Reise teilnehmen möchten\, meld
 en Sie sich bitte so schnell wie möglich (die Kapazitäten sind begrenzt)
 \, spätestens aber bis zum 5. Mai 2026 an.\n\nSchwerpunkte der Reise werd
 en die Themen Energie\, Erneuerbare Energien\, Kreislaufwirtschaft\, Logis
 tik und E-Mobilität sein.\n\nDas zeitlich genau definierte Programm befin
 det sich derzeit noch in Abstimmung. Bisher sind folgende Termine geplant:
 \n\n 	1. Juni 2026: Empfang durch\n\n 	 S. E. Dr. Ralf Horlemann\, Botsc
 hafter der Bundesrepublik Deutschland in Aserbaidschan\n 	Nargis Wieck\, G
 eschäftsführerin der AHK Aserbaidschan\n\n\n\n\n 	1.- 2. Juni 2026: 31. 
 Baku Energy Forum\n 	3. Juni 2026: Side Event: Networking Veranstaltung im
  Baku Expo Center\n 	1.- 3. Juni 2026: Organisation gezielter B2B Gespräc
 he für deutsche Unternehmen\n 	Treffen mit dem Energieministerium\n 	Tref
 fen mit dem Wirtschaftsministerium\n 	Treffen mit der Agentur für Erneuer
 bare Energien (Azerbaijan Renewable Energy Agency (AREA))\n 	Treffen mit d
 em Unternehmerverband der Republik Aserbaidschan (National Confederation o
 f Organizations of Entrepreneurs (Employers) of the Republic of Azerbaijan
  (ASK))\n 	Treffen mit Vertretern von Socar Green\n 	Treffen mit Vertreter
 n von Socar\n\nUm die Reise optimal vorbereiten zu können\, möchten wir 
 Sie bitten\, uns Ihre konkreten Anliegen über diese Abfrage mitzuteilen: 
 Abfrage\n\nOrganisatorische Hinweise:\n\n 	Die An- und Abreise sowie die U
 nterbringung vor Ort organisieren die Teilnehmer selbst und auf eigene Kos
 ten. Aus logistischen Gründen empfehlen wir Ihnen\, das folgende Hotel zu
  buchen: Courtyard by Marriott Baku.\n 	Wir möchten Sie bitten zu beachte
 n\, dass wir für die Organisation und die Treffen vor Ort eine Unkostenpa
 uschale von 400 € pro Teilnehmer erheben\, die im Vorfeld der Reise zu b
 egleichen ist.\n\nFür Fragen stehen Ihnen Ekaterina Radaikina (e.radaikin
 a@oa-ev.de) und Jens Böhlmann (j.boehlmann@oa-ev.de) gerne zur Verfügung
 .\n\nKontakt\n\nJens Böhlmann\nDirektor Mittelstand | Grüne Transformati
 on | Expertenpool Finanzen\nT. +49 30 206167-127\nJ.Boehlmann@oa-ev.de\n\n
 Ekaterina Radaikina\nProjektkoordinatorin\nT. +49 30 206167-128\nE.Radaiki
 na@oa-ev.de
END:VEVENT
BEGIN:VTIMEZONE
TZID:Asia/Baku
X-LIC-LOCATION:Asia/Baku
BEGIN:STANDARD
DTSTART:20250601T000000
TZOFFSETFROM:+0400
TZOFFSETTO:+0400
TZNAME:+04
END:STANDARD
END:VTIMEZONE
END:VCALENDAR