BEGIN:VCALENDAR
VERSION:2.0
PRODID:-//wp-events-plugin.com//7.2.3.1//EN
TZID:Europe/Berlin
X-WR-TIMEZONE:Europe/Berlin
BEGIN:VEVENT
UID:34@gruene-transformation.org
DTSTART;TZID=Europe/Berlin:20260624T100000
DTEND;TZID=Europe/Berlin:20260624T160000
DTSTAMP:20260305T123458Z
URL:https://gruene-transformation.org/veranstaltungen/besuch-verbio-bioraf
 finerie-schwedt/
SUMMARY:Besuch „Verbio Bioraffinerie Schwedt“
DESCRIPTION:Die Unternehmensplattform Grüne Transformation und die Firma V
 erbio (Verbio SE) laden Sie herzlich zu einem Besuch der „Verbio Bioraff
 inerie Schwedt“ am 24. Juni 2026 ein.\n\nDas komplette Programm finden S
 ie hier.\n\nVerbio produziert aus Biomasse klimafreundliche Kraftstoffe\, 
 grüne Energie und erneuerbare Komponenten für Chemie\, Industrie und Lan
 dwirtschaft. Vor Ort wird uns u.a. der Gründer und CEO von Verbio Claus S
 auter begrüßen und für einen intensiven Austausch zur Verfügung stehen
 .\n\nDiese Einladung richtet sich explizit an produzierende Unternehmen. B
 ei Interesse an der Veranstaltung oder bei Fragen zum Ablauf wenden Sie si
 ch bitte an Jens Böhlmann.\n\nKontakt\n\n\n\nJens Böhlmann\nDirektor Mit
 telstand | Grüne Transformation\nT. +49 30 206167-127\nJ.Boehlmann@oa-ev.
 de\n\n\n
LOCATION:VERBIO Schwedt GmbH\, Passower Chaussee 111\, Schwedt/Oder\, 16303
 \, Deutschland
X-APPLE-STRUCTURED-LOCATION;VALUE=URI;X-ADDRESS=Passower Chaussee 111\, Sch
 wedt/Oder\, 16303\, Deutschland;X-APPLE-RADIUS=100;X-TITLE=VERBIO Schwedt 
 GmbH:geo:0,0
END:VEVENT
BEGIN:VTIMEZONE
TZID:Europe/Berlin
X-LIC-LOCATION:Europe/Berlin
BEGIN:DAYLIGHT
DTSTART:20260329T030000
TZOFFSETFROM:+0100
TZOFFSETTO:+0200
TZNAME:CEST
END:DAYLIGHT
END:VTIMEZONE
END:VCALENDAR